BEGIN:VCALENDAR
VERSION:2.0
PRODID:-//wp-events-plugin.com//7.2.3.1//EN
BEGIN:VEVENT
UID:2074@elim.co.za
DTSTART:20261005T110000Z
DTEND:20261005T140000Z
DTSTAMP:20251208T125241Z
URL:https://elim.co.za/events/yom-hashemini-eighth-day-meeting-3/
SUMMARY:Yom Hashemini (Eighth Day) Meeting
DESCRIPTION:A celebration consisting of songs of Praise and Testimonies to 
 introduce the Eighth Day\, following the feast of Tabernacles. It will be 
 concluded with a combined meal.
CATEGORIES:Annual Feast Days
LOCATION:40 Risi Road\, 40 Risi Road\, Fish Hoek\, South Africa
GEO:-34.1316;18.4039
X-APPLE-STRUCTURED-LOCATION;VALUE=URI;X-ADDRESS=40 Risi Road\, Fish Hoek\, 
 South Africa;X-APPLE-RADIUS=100;X-TITLE=40 Risi Road:geo:-34.1316,18.4039
END:VEVENT
END:VCALENDAR