BEGIN:VCALENDAR
VERSION:2.0
PRODID:-//wp-events-plugin.com//7.2.3.1//EN
BEGIN:VEVENT
UID:2051@elim.co.za
DTSTART:20261226T150000Z
DTEND:20261226T170000Z
DTSTAMP:20251208T121558Z
URL:https://elim.co.za/events/shabbat-meeting-23-2026-01-24-2026-02-28-202
 6-03-28-2026-04-25-2026-05-23-2026-06-27-2026-07-25-2026-08-22-2026-09-26-
 2026-10-24-2026-11-28-2026-12-26/
SUMMARY:Shabbat Meeting
DESCRIPTION:Informal assembly of local and visiting believers. Focus on Tor
 ah\, Prophets and Messianic Scriptures. Service in Afrikaans.
CATEGORIES:Shabbat Meetings
LOCATION:40 Risi Road\, 40 Risi Road\, Fish Hoek\, South Africa
GEO:-34.1316;18.4039
X-APPLE-STRUCTURED-LOCATION;VALUE=URI;X-ADDRESS=40 Risi Road\, Fish Hoek\, 
 South Africa;X-APPLE-RADIUS=100;X-TITLE=40 Risi Road:geo:-34.1316,18.4039
END:VEVENT
END:VCALENDAR