BEGIN:VCALENDAR
VERSION:2.0
PRODID:-//wp-events-plugin.com//7.2.3.1//EN
BEGIN:VEVENT
UID:2021@elim.co.za
DTSTART:20260808T150000Z
DTEND:20260808T170000Z
DTSTAMP:20251208T121237Z
URL:https://elim.co.za/events/shabbat-meeting-21-2026-01-10-2026-02-14-202
 6-03-14-2026-04-11-2026-05-09-2026-06-13-2026-07-11-2026-08-08/
SUMMARY:Shabbat Meeting
DESCRIPTION:Informal assembly of local and visiting believers. Focus on Tor
 ah\, Prophets and Messianic Scriptures. Service in Afrikaans.
CATEGORIES:Shabbat Meetings
LOCATION:40 Risi Road\, 40 Risi Road\, Fish Hoek\, South Africa
GEO:-34.1316;18.4039
X-APPLE-STRUCTURED-LOCATION;VALUE=URI;X-ADDRESS=40 Risi Road\, Fish Hoek\, 
 South Africa;X-APPLE-RADIUS=100;X-TITLE=40 Risi Road:geo:-34.1316,18.4039
END:VEVENT
END:VCALENDAR