BEGIN:VCALENDAR
VERSION:2.0
PRODID:-//wp-events-plugin.com//7.2.3.1//EN
BEGIN:VEVENT
UID:2005@elim.co.za
DTSTART:20260502T150000Z
DTEND:20260502T170000Z
DTSTAMP:20251208T120854Z
URL:https://elim.co.za/events/shabbat-meeting-20-2026-01-03-2026-02-07-202
 6-03-07-2026-04-04-2026-05-02/
SUMMARY:Shabbat Meeting
DESCRIPTION:Informal assembly of local and visiting believers. Focus on Tor
 ah\, Prophets and Messianic Scriptures. Service in English.
CATEGORIES:Shabbat Meetings
LOCATION:40 Risi Road\, 40 Risi Road\, Fish Hoek\, South Africa
GEO:-34.1316;18.4039
X-APPLE-STRUCTURED-LOCATION;VALUE=URI;X-ADDRESS=40 Risi Road\, Fish Hoek\, 
 South Africa;X-APPLE-RADIUS=100;X-TITLE=40 Risi Road:geo:-34.1316,18.4039
END:VEVENT
END:VCALENDAR