BEGIN:VCALENDAR
VERSION:2.0
PRODID:-//wp-events-plugin.com//7.2.3.1//EN
BEGIN:VEVENT
UID:2063@elim.co.za
DTSTART:20260815T150000Z
DTEND:20260815T170000Z
DTSTAMP:20251208T123914Z
URL:https://elim.co.za/events/shabbat-and-new-moon-meeting-4/
SUMMARY:Shabbat and New Moon Meeting
DESCRIPTION:Informal assembly of local and visiting believers to celebrate 
 both the Shabbat and the beginning and the next Scriptural month.
CATEGORIES:Shabbat Meetings,New Moon Services
LOCATION:40 Risi Road\, 40 Risi Road\, Fish Hoek\, South Africa
GEO:-34.1316;18.4039
X-APPLE-STRUCTURED-LOCATION;VALUE=URI;X-ADDRESS=40 Risi Road\, Fish Hoek\, 
 South Africa;X-APPLE-RADIUS=100;X-TITLE=40 Risi Road:geo:-34.1316,18.4039
END:VEVENT
END:VCALENDAR