BEGIN:VCALENDAR
VERSION:2.0
PRODID:-//wp-events-plugin.com//7.2.3.1//EN
BEGIN:VEVENT
UID:2065@elim.co.za
DTSTART:20261012T183000Z
DTEND:20261012T203000Z
DTSTAMP:20251208T124035Z
URL:https://elim.co.za/events/new-moon-service-30/
SUMMARY:New Moon Service
DESCRIPTION:An assembly and combined meal of local and visiting believers t
 o mark the beginning of the new Scriptural month.
CATEGORIES:New Moon Services
LOCATION:40 Risi Road\, 40 Risi Road\, Fish Hoek\, South Africa
GEO:-34.1316;18.4039
X-APPLE-STRUCTURED-LOCATION;VALUE=URI;X-ADDRESS=40 Risi Road\, Fish Hoek\, 
 South Africa;X-APPLE-RADIUS=100;X-TITLE=40 Risi Road:geo:-34.1316,18.4039
END:VEVENT
END:VCALENDAR